BEGIN:VCALENDAR
VERSION:2.0
PRODID:-//Marie-K - ECPv6.6.1//NONSGML v1.0//EN
CALSCALE:GREGORIAN
METHOD:PUBLISH
X-WR-CALNAME:Marie-K
X-ORIGINAL-URL:https://marie-k.ch
X-WR-CALDESC:évènements pour Marie-K
REFRESH-INTERVAL;VALUE=DURATION:PT1H
X-Robots-Tag:noindex
X-PUBLISHED-TTL:PT1H
BEGIN:VTIMEZONE
TZID:Europe/Paris
BEGIN:DAYLIGHT
TZOFFSETFROM:+0100
TZOFFSETTO:+0200
TZNAME:CEST
DTSTART:20250330T010000
END:DAYLIGHT
BEGIN:STANDARD
TZOFFSETFROM:+0200
TZOFFSETTO:+0100
TZNAME:CET
DTSTART:20251026T010000
END:STANDARD
END:VTIMEZONE
BEGIN:VEVENT
DTSTART;TZID=Europe/Paris:20251211T180000
DTEND;TZID=Europe/Paris:20251211T200000
DTSTAMP:20260422T190511
CREATED:20251114T151107Z
LAST-MODIFIED:20251114T151107Z
UID:3185-1765476000-1765483200@marie-k.ch
SUMMARY:Les fenêtres de l'avent 2025 à Tannay!
DESCRIPTION:Venez découvrir notre vitrine à notre atelier à Tannay le 11 décembre !
URL:https://marie-k.ch/agenda/les-fenetres-de-lavent-2025-a-tannay/
LOCATION:Tannay\, 4 Place du Village\, 1295 Tannay\, Switzerland
ATTACH;FMTTYPE=image/png:https://marie-k.ch/wp-content/uploads/2025/11/Capture-decran-2025-11-14-a-16.09.43.png
END:VEVENT
END:VCALENDAR