BEGIN:VCALENDAR
VERSION:2.0
PRODID:-//Marie-K - ECPv6.6.1//NONSGML v1.0//EN
CALSCALE:GREGORIAN
METHOD:PUBLISH
X-ORIGINAL-URL:https://marie-k.ch
X-WR-CALDESC:évènements pour Marie-K
REFRESH-INTERVAL;VALUE=DURATION:PT1H
X-Robots-Tag:noindex
X-PUBLISHED-TTL:PT1H
BEGIN:VTIMEZONE
TZID:Europe/Paris
BEGIN:DAYLIGHT
TZOFFSETFROM:+0100
TZOFFSETTO:+0200
TZNAME:CEST
DTSTART:20250330T010000
END:DAYLIGHT
BEGIN:STANDARD
TZOFFSETFROM:+0200
TZOFFSETTO:+0100
TZNAME:CET
DTSTART:20251026T010000
END:STANDARD
END:VTIMEZONE
BEGIN:VEVENT
DTSTART;TZID=Europe/Paris:20251115T100000
DTEND;TZID=Europe/Paris:20251115T210000
DTSTAMP:20260425T035809
CREATED:20251114T145134Z
LAST-MODIFIED:20251114T145134Z
UID:3172-1763200800-1763240400@marie-k.ch
SUMMARY:Marché Coppet
DESCRIPTION:
URL:https://marie-k.ch/agenda/marche-coppet/
LOCATION:Coppet\, Rue des Murs 8\, Coppet 1296\, 1296
ATTACH;FMTTYPE=image/jpeg:https://marie-k.ch/wp-content/uploads/2025/11/Flyer_inauguration-15.11-ARSCO-.pdf-scaled-1-scaled.jpg
END:VEVENT
BEGIN:VEVENT
DTSTART;TZID=Europe/Paris:20251116T170000
DTEND;TZID=Europe/Paris:20251116T170000
DTSTAMP:20260425T035809
CREATED:20251114T145421Z
LAST-MODIFIED:20251114T145421Z
UID:3175-1763312400-1763312400@marie-k.ch
SUMMARY:Concert dessiné
DESCRIPTION:Avec 5 illustratrices de la Bûche
URL:https://marie-k.ch/agenda/concert-dessine/
LOCATION:Genève\, Studio Gabriele de Agostini Rue François d’Ivernois 7\, 1206 Genève\, Switzerland
ATTACH;FMTTYPE=image/jpeg:https://marie-k.ch/wp-content/uploads/2025/11/ENSEMBLE_Jeux-Enfants_S25_26_IMAGE.jpg
END:VEVENT
BEGIN:VEVENT
DTSTART;TZID=Europe/Paris:20251120T163000
DTEND;TZID=Europe/Paris:20251121T200000
DTSTAMP:20260425T035809
CREATED:20251114T150105Z
LAST-MODIFIED:20251114T150105Z
UID:3179-1763656200-1763755200@marie-k.ch
SUMMARY:Marché Carouge
DESCRIPTION:Venez découvrir notre atelier et nos créations le 20 et 21 novembre à Carouge ! \nLE MARCHÉ DE CRÉATEUR·RICE·S a lieu dans l’espace de travail TUNNEL 7\, situé au rez-de-chaussée d’une ancienne imprimerie\, au cœur de Carouge\, Genève.  \nTUNNEL 7 réunit des indépendant·e·s spécialisé·e·s dans les métiers d’arts graphiques (graphisme\, bande dessinée\, illustration) et de conception d’espace (scénographie\, architecture). \nLES CRÉATRICES de tunnel 7 \nIllustration & BD — Atelier Versicolor :\nAmélie Strobino @ameliestrobino\nAnouck Fontaine @anouckillustration\nMaud Oïhénart @maudoihenart\nNathalie Gür @guernath\nMarie Kolly @marie_kolly_ \nScénographie\nCatnuss @catnuss_sarl \nGraphisme & T-shirts\nSeek Six Silks @seeksixsilks \n  \nles invité·e·s  \nCéramique \nJeanne Magnenat @jeannemagnenat\nThéo Héritier @theo.ceramics \nBijoux en macramé\, illustration\net projets de tatouages\nAurélia Calo @aurelia_calo
URL:https://marie-k.ch/agenda/marche-carouge/
LOCATION:Carouge\, Rue du Tunnel 7\, 1227 Carouge\, Switzerland
ATTACH;FMTTYPE=image/png:https://marie-k.ch/wp-content/uploads/2025/11/Capture-decran-2025-10-13-a-13.29.29.png
END:VEVENT
END:VCALENDAR